BEGIN:VCALENDAR
VERSION:2.0
PRODID:-//Tukios.com/
BEGIN:VEVENT
UID:607ef639-e3f1-42aa-a546-8d889030eefd@www.rayfuneralhome.net
DTSTAMP:20260422T205833Z
DTSTART:20260425T170000Z
DTEND:20260425T180000Z
SUMMARY:Visitation
DESCRIPTION:
URL:https://www.rayfuneralhome.net/obituaries/betty-britt
LOCATION:First Baptist Church 403 Front St  Rosedale MS 38769
GEO:33.8574847;-91.028529
END:VEVENT
END:VCALENDAR