BEGIN:VCALENDAR
VERSION:2.0
PRODID:-//Tukios.com/
BEGIN:VEVENT
UID:44e2f323-07f8-4c2c-9aef-4587fbe3fdbe@www.rayfuneralhome.net
DTSTAMP:20260422T205651Z
DTSTART:20260425T180000Z
DTEND:20260425T190000Z
SUMMARY:Celebration of Life
DESCRIPTION:
URL:https://www.rayfuneralhome.net/obituaries/betty-britt
LOCATION: 403 Front St  Rosedale MS 38769
GEO:33.8574847;-91.028529
END:VEVENT
END:VCALENDAR