BEGIN:VCALENDAR
VERSION:2.0
PRODID:-//Tukios.com/
BEGIN:VEVENT
UID:91de2c73-669c-4cf6-84db-780ea509528c@www.rayfuneralhome.net
DTSTAMP:20260422T210120Z
DTSTART:20260425T190000Z
DTEND:20260425T193000Z
SUMMARY:Burial
DESCRIPTION:
URL:https://www.rayfuneralhome.net/obituaries/betty-britt
LOCATION: Hwy 1  Beulah MS 38726
GEO:34.56133;-90.9257803
END:VEVENT
END:VCALENDAR