BEGIN:VCALENDAR
VERSION:2.0
PRODID:-//Tukios.com/
BEGIN:VEVENT
UID:054b7a42-d6cc-4e36-8c8c-7205dc63e71e@www.rayfuneralhome.net
DTSTAMP:20260420T002023Z
DTSTART:20260422T180000Z
DTEND:20260422T193000Z
SUMMARY:Visitation
DESCRIPTION:
URL:https://www.rayfuneralhome.net/obituaries/don-ferri
LOCATION: 206 Bishop Rd  Cleveland MS 38732
GEO:33.7466248;-90.7463459
END:VEVENT
END:VCALENDAR