BEGIN:VCALENDAR
VERSION:2.0
PRODID:-//Tukios.com/
BEGIN:VEVENT
UID:37c50214-0de3-4d39-a52b-316c085a0241@www.rayfuneralhome.net
DTSTAMP:20260420T002118Z
DTSTART:20260422T193000Z
DTEND:20260422T203000Z
SUMMARY:Celebration of Life
DESCRIPTION:
URL:https://www.rayfuneralhome.net/obituaries/don-ferri
LOCATION: 206 Bishop Rd  Cleveland MS 38732
GEO:33.7466248;-90.7463459
END:VEVENT
END:VCALENDAR