BEGIN:VCALENDAR
VERSION:2.0
PRODID:-//Tukios.com/
BEGIN:VEVENT
UID:e8a95d56-d207-42f2-9481-9a9ac9c74eff@www.rayfuneralhome.net
DTSTAMP:20260420T002403Z
DTSTART:20260422T203000Z
DTEND:20260422T210000Z
SUMMARY:Graveside Service
DESCRIPTION:
URL:https://www.rayfuneralhome.net/obituaries/don-ferri
LOCATION: N Bayou Rd  Cleveland MS 38732
GEO:33.7680313;-90.7378996
END:VEVENT
END:VCALENDAR